BEGIN:VCALENDAR
VERSION:2.0
PRODID:-//Joe Avati - ECPv6.15.20//NONSGML v1.0//EN
CALSCALE:GREGORIAN
METHOD:PUBLISH
X-WR-CALNAME:Joe Avati
X-ORIGINAL-URL:https://joeavati.com
X-WR-CALDESC:Events for Joe Avati
REFRESH-INTERVAL;VALUE=DURATION:PT1H
X-Robots-Tag:noindex
X-PUBLISHED-TTL:PT1H
BEGIN:VTIMEZONE
TZID:UTC
BEGIN:STANDARD
TZOFFSETFROM:+0000
TZOFFSETTO:+0000
TZNAME:UTC
DTSTART:20240101T000000
END:STANDARD
END:VTIMEZONE
BEGIN:VEVENT
DTSTART;TZID=UTC:20250222T200000
DTEND;TZID=UTC:20250222T213000
DTSTAMP:20260420T151926
CREATED:20241203T002215Z
LAST-MODIFIED:20241203T002215Z
UID:10000162-1740254400-1740259800@joeavati.com
SUMMARY:When I Was Your Age - Australia
DESCRIPTION:
URL:https://joeavati.com/event/when-i-was-your-age-australia-60/
LOCATION:Goulburn Performing Arts Centre\, 163 Auburn St\, Goulburn\, NSW\, 2580\, Australia
END:VEVENT
END:VCALENDAR