BEGIN:VCALENDAR
VERSION:2.0
PRODID:-//Joe Avati - ECPv6.15.20//NONSGML v1.0//EN
CALSCALE:GREGORIAN
METHOD:PUBLISH
X-ORIGINAL-URL:https://joeavati.com
X-WR-CALDESC:Events for Joe Avati
REFRESH-INTERVAL;VALUE=DURATION:PT1H
X-Robots-Tag:noindex
X-PUBLISHED-TTL:PT1H
BEGIN:VTIMEZONE
TZID:UTC
BEGIN:STANDARD
TZOFFSETFROM:+0000
TZOFFSETTO:+0000
TZNAME:UTC
DTSTART:20230101T000000
END:STANDARD
END:VTIMEZONE
BEGIN:VEVENT
DTSTART;TZID=UTC:20241130T180000
DTEND;TZID=UTC:20241130T220000
DTSTAMP:20260420T003420
CREATED:20240418T003456Z
LAST-MODIFIED:20240418T004403Z
UID:10000129-1732989600-1733004000@joeavati.com
SUMMARY:When I Was Your Age - Australia
DESCRIPTION:
URL:https://joeavati.com/event/when-i-was-your-age-australia-51/
LOCATION:Mareeba International Hotel\, 10 Vaughan Street\, Mareeba\, QLD\, 4880\, Australia
END:VEVENT
END:VCALENDAR