BEGIN:VCALENDAR
VERSION:2.0
PRODID:-//Joe Avati - ECPv6.15.20//NONSGML v1.0//EN
CALSCALE:GREGORIAN
METHOD:PUBLISH
X-ORIGINAL-URL:https://joeavati.com
X-WR-CALDESC:Events for Joe Avati
REFRESH-INTERVAL;VALUE=DURATION:PT1H
X-Robots-Tag:noindex
X-PUBLISHED-TTL:PT1H
BEGIN:VTIMEZONE
TZID:UTC
BEGIN:STANDARD
TZOFFSETFROM:+0000
TZOFFSETTO:+0000
TZNAME:UTC
DTSTART:20230101T000000
END:STANDARD
END:VTIMEZONE
BEGIN:VEVENT
DTSTART;TZID=UTC:20260121T183000
DTEND;TZID=UTC:20260121T203000
DTSTAMP:20260420T121252
CREATED:20250519T020714Z
LAST-MODIFIED:20250519T020714Z
UID:10000218-1769020200-1769027400@joeavati.com
SUMMARY:An Evening With Joe Avati
DESCRIPTION:
URL:https://joeavati.com/event/an-evening-with-joe-avati/
LOCATION:Off The Hook Comedy Club\, 2500 Vanderbilt Beach Rd #1100\, Naples\, FL\, FL\, FL 34109\, United States
END:VEVENT
BEGIN:VEVENT
DTSTART;TZID=UTC:20260120T183000
DTEND;TZID=UTC:20260120T203000
DTSTAMP:20260420T121252
CREATED:20250325T235235Z
LAST-MODIFIED:20250519T020547Z
UID:10000192-1768933800-1768941000@joeavati.com
SUMMARY:An Evening With Joe Avati
DESCRIPTION:
URL:https://joeavati.com/event/when-i-was-your-age-8/
LOCATION:Off The Hook Comedy Club\, 2500 Vanderbilt Beach Rd #1100\, Naples\, FL\, FL\, FL 34109\, United States
END:VEVENT
BEGIN:VEVENT
DTSTART;TZID=UTC:20241112T183000
DTEND;TZID=UTC:20241112T210000
DTSTAMP:20260420T121252
CREATED:20240208T072421Z
LAST-MODIFIED:20240208T072421Z
UID:10000103-1731436200-1731445200@joeavati.com
SUMMARY:When I Was Your Age - USA
DESCRIPTION:
URL:https://joeavati.com/event/when-i-was-your-age-usa-4/
LOCATION:Off The Hook Comedy Club\, 2500 Vanderbilt Beach Rd #1100\, Naples\, FL\, FL\, FL 34109\, United States
END:VEVENT
BEGIN:VEVENT
DTSTART;TZID=UTC:20241111T183000
DTEND;TZID=UTC:20241111T213000
DTSTAMP:20260420T121252
CREATED:20240208T072332Z
LAST-MODIFIED:20240208T072449Z
UID:10000102-1731349800-1731360600@joeavati.com
SUMMARY:When I Was Your Age - USA
DESCRIPTION:
URL:https://joeavati.com/event/when-i-was-your-age-usa-3/
LOCATION:Off The Hook Comedy Club\, 2500 Vanderbilt Beach Rd #1100\, Naples\, FL\, FL\, FL 34109\, United States
END:VEVENT
END:VCALENDAR