BEGIN:VCALENDAR
VERSION:2.0
PRODID:-//Joe Avati - ECPv6.15.20//NONSGML v1.0//EN
CALSCALE:GREGORIAN
METHOD:PUBLISH
X-ORIGINAL-URL:https://joeavati.com
X-WR-CALDESC:Events for Joe Avati
REFRESH-INTERVAL;VALUE=DURATION:PT1H
X-Robots-Tag:noindex
X-PUBLISHED-TTL:PT1H
BEGIN:VTIMEZONE
TZID:UTC
BEGIN:STANDARD
TZOFFSETFROM:+0000
TZOFFSETTO:+0000
TZNAME:UTC
DTSTART:20260101T000000
END:STANDARD
END:VTIMEZONE
BEGIN:VEVENT
DTSTART;TZID=UTC:20270221T190000
DTEND;TZID=UTC:20270221T203000
DTSTAMP:20260422T030259
CREATED:20260401T054804Z
LAST-MODIFIED:20260401T054804Z
UID:10000354-1803236400-1803241800@joeavati.com
SUMMARY:Good Old Days
DESCRIPTION:
URL:https://joeavati.com/event/good-old-days-41/
LOCATION:Smithfield RSL\, 88 Smithfield Rd\, Smithfield\, Smithfield\, NSW\, NSW\, Australia
END:VEVENT
END:VCALENDAR