BEGIN:VCALENDAR
VERSION:2.0
PRODID:-//Joe Avati - ECPv6.15.20//NONSGML v1.0//EN
CALSCALE:GREGORIAN
METHOD:PUBLISH
X-ORIGINAL-URL:https://joeavati.com
X-WR-CALDESC:Events for Joe Avati
REFRESH-INTERVAL;VALUE=DURATION:PT1H
X-Robots-Tag:noindex
X-PUBLISHED-TTL:PT1H
BEGIN:VTIMEZONE
TZID:UTC
BEGIN:STANDARD
TZOFFSETFROM:+0000
TZOFFSETTO:+0000
TZNAME:UTC
DTSTART:20240101T000000
END:STANDARD
END:VTIMEZONE
BEGIN:VEVENT
DTSTART;TZID=UTC:20251109T183000
DTEND;TZID=UTC:20251109T210000
DTSTAMP:20260423T193050
CREATED:20250714T003054Z
LAST-MODIFIED:20250714T003054Z
UID:10000237-1762713000-1762722000@joeavati.com
SUMMARY:Comedy Cartel Tour
DESCRIPTION:
URL:https://joeavati.com/event/comedy-cartel-tour-36/
LOCATION:Sphinx Hotel\, 2 Thompson Road\, North Geelong\, VIC\, 3215\, Australia
END:VEVENT
END:VCALENDAR